BEGIN:VCALENDAR
VERSION:2.0
PRODID:-//Klamath Bird Observatory - ECPv6.15.20//NONSGML v1.0//EN
CALSCALE:GREGORIAN
METHOD:PUBLISH
X-WR-CALNAME:Klamath Bird Observatory
X-ORIGINAL-URL:https://klamathbird.org
X-WR-CALDESC:Events for Klamath Bird Observatory
REFRESH-INTERVAL;VALUE=DURATION:PT1H
X-Robots-Tag:noindex
X-PUBLISHED-TTL:PT1H
BEGIN:VTIMEZONE
TZID:America/Los_Angeles
BEGIN:DAYLIGHT
TZOFFSETFROM:-0800
TZOFFSETTO:-0700
TZNAME:PDT
DTSTART:20250309T100000
END:DAYLIGHT
BEGIN:STANDARD
TZOFFSETFROM:-0700
TZOFFSETTO:-0800
TZNAME:PST
DTSTART:20251102T090000
END:STANDARD
BEGIN:DAYLIGHT
TZOFFSETFROM:-0800
TZOFFSETTO:-0700
TZNAME:PDT
DTSTART:20260308T100000
END:DAYLIGHT
BEGIN:STANDARD
TZOFFSETFROM:-0700
TZOFFSETTO:-0800
TZNAME:PST
DTSTART:20261101T090000
END:STANDARD
BEGIN:DAYLIGHT
TZOFFSETFROM:-0800
TZOFFSETTO:-0700
TZNAME:PDT
DTSTART:20270314T100000
END:DAYLIGHT
BEGIN:STANDARD
TZOFFSETFROM:-0700
TZOFFSETTO:-0800
TZNAME:PST
DTSTART:20271107T090000
END:STANDARD
END:VTIMEZONE
BEGIN:VEVENT
DTSTART;VALUE=DATE:20260506
DTEND;VALUE=DATE:20260510
DTSTAMP:20260420T020610
CREATED:20251003T182047Z
LAST-MODIFIED:20251003T182458Z
UID:21759-1778025600-1778371199@klamathbird.org
SUMMARY:Bear Divide – California Migration Hotspot
DESCRIPTION:Experience spring migration like never before at Bear Divide\, one of the western U.S.’s premier daylight birding hotspots. Join Klamath Bird Observatory’s Dr. Ryan Terrill for guided morning outings through this narrow mountain pass\, where thousands of songbirds funnel through each day. The trip includes select meals\, local transportation\, expert-led excursions\, and a special presentation\, with proceeds supporting the on-site banding station. Optional afternoon outings and a Pasadena parrot tour round out this immersive avian adventure. \nLearn more at KBO’s Travel page.
URL:https://klamathbird.org/event/bear-divide-california-migration-hotspot/
LOCATION:OR
ATTACH;FMTTYPE=image/jpeg:https://klamathbird.org/wp-content/uploads/2025/09/812A2407-1-1.jpeg
END:VEVENT
BEGIN:VEVENT
DTSTART;TZID=America/Los_Angeles:20260508T073000
DTEND;TZID=America/Los_Angeles:20260508T150000
DTSTAMP:20260420T020610
CREATED:20260302T203651Z
LAST-MODIFIED:20260302T203743Z
UID:22030-1778225400-1778252400@klamathbird.org
SUMMARY:Emigrant Lake with Harry Fuller
DESCRIPTION:Join Harry Fuller for an all-day outing at Emigrant Lake on May 8th. Highlights that day should include: Oak Titmouse\, Acorn Woodpecker\, possible Canyon and Rock Wren\, and maybe Golden Eagle. You will meet at the CVS parking lot in Ashland at 7:30 am to carpool to Emigrant Lake. Prepare for a chilling morning and for a warmer afternoon. Bring snacks\, lunch\, and water. This is a free event\, but donations are greatly appreciated. \nHarry Fuller had a long career in TV news and now lives in Oregon. He has led birding field trips in Northern California\, Oregon\, and Washington State for more than two decades. Harry has also published several bird-related books and has an active blog. \nauthor of: Birding Harney County;\nSan Francisco’s Natural History: Sand Dunes to Streetcars: https://ecowise.wordpress.com/2017/04/20/sfnh/\nauthor of Great Gray Owls of CA-OR-WA: https://ecowise.wordpress.com/2015/05/08/the-great-gray-owl-book/\nauthor of Freeway Birding: freewaybirding.com\nbirding blog: ecowise.wordpress.com\n\nCover Photo: Cormorants at Emigrant Lake\, taken by Frank Lospalluto\n\n\n\n\n\n                \n                        \n                            Registration: Emigrant Lake with Harry Fuller\n                             \n                        \n                        Name(Required)\n                            \n                            \n                                                    \n                                                    First\n                                                \n                            \n                            \n                                                    \n                                                    Last\n                                                \n                            \n                        Email(Required)\n                            \n                        Phone(Required)Postal/Zip Code(Required)How did you hear about this event?(Required)\n			\n					\n					Social Media\n			\n			\n					\n					Klamath Call Note (email)\n			\n			\n					\n					Ashland Living\n			\n			\n					\n					Word of Mouth\n			\n			\n					\n					Other\n			Have you attended a KBO event before?(Required)\n			\n					\n					Yes\n			\n			\n					\n					No\n			Donation Amount\n					\n				Total\n							\n						Credit CardCard Details\n					\n					Cardholder Name
URL:https://klamathbird.org/event/emigrant-lake-with-harry-fuller/
LOCATION:Emigrant Lake\, 5505 OR-66\, Ashland\, OR\, 97520\, United States
CATEGORIES:Bird Walk
ATTACH;FMTTYPE=image/jpeg:https://klamathbird.org/wp-content/uploads/2026/03/54397290796_e75046f038_c.jpg
ORGANIZER;CN="Klamath Bird Observatory":MAILTO:ejm@klamathbird.org
END:VEVENT
BEGIN:VEVENT
DTSTART;TZID=America/Los_Angeles:20260510T100000
DTEND;TZID=America/Los_Angeles:20260510T120000
DTSTAMP:20260420T020610
CREATED:20260305T004648Z
LAST-MODIFIED:20260305T004726Z
UID:22041-1778407200-1778414400@klamathbird.org
SUMMARY:Hummingbirds: Chasing Flowers for 1\,000 Miles!
DESCRIPTION:We all recognize the tiny\, dazzling hummingbird—but these birds are far more than just cute. Hummingbirds are extraordinary travelers\, migrating thousands of miles across North America while facing intense challenges such as predation\, habitat loss\, and a rapidly changing environment. \nIn this talk\, we will explore what makes hummingbirds so special and different from other birds: their remarkable abilities\, their unique biology\, and the reasons they have been recognized as powerful spiritual symbols across cultures. \nYou can make a difference in a hummingbird’s survival. Join us to learn how to help these incredible birds—and reconnect with and care for the nature around you. \nPart 2 – May 10\, 2026 – Martín López Aguilar will lead a talk and walk to identify hummingbirds\, and demonstrate how to submit your data to eBird to support community science. \nMartín López Aguilar is a professional bird bander and Project Leader at the Klamath Bird Observatory\, where he oversees the bird banding long-term monitoring program. He is an NABC Certified Trainer for passerines and near passerines and has safely banded and handled thousands of birds in the US\, Mexico\, and Colombia\, including extensive experience with hummingbirds and more than 200 passerine species. Martín is passionate about conservation\, science communication\, and training the next generation of bird biologists.  \nRegister Here: https://forms.donorsnap.com/form?id=2243e602-8f02-42a4-b59e-62f782410a20 
URL:https://klamathbird.org/event/hummingbirds-chasing-flowers-for-1000-miles-2/
LOCATION:OR
CATEGORIES:Bird Walk
ATTACH;FMTTYPE=image/jpeg:https://klamathbird.org/wp-content/uploads/2020/07/Copy-of-Rufous-Hummingbird-3423-c-Jim-Livaudais-96ppi-x2.5.jpg
END:VEVENT
BEGIN:VEVENT
DTSTART;TZID=America/Los_Angeles:20260516T080000
DTEND;TZID=America/Los_Angeles:20260516T120000
DTSTAMP:20260420T020610
CREATED:20260305T005738Z
LAST-MODIFIED:20260305T005738Z
UID:22043-1778918400-1778932800@klamathbird.org
SUMMARY:Rogue Valley Bird Day
DESCRIPTION:Rogue Valley Bird Day is a local celebration of World Migratory Bird Day\, a global campaign that serves as a beacon for conservation efforts to protect migratory birds and their journeys across borders. This year’s theme highlights the role of public participation in collecting data on migratory bird populations and their habitats\, and the factors that affect their populations and contribute to our knowledge of how to protect them. Community science\, ranging from backyard bird counts to large-scale coordinated surveys/schemes\, provides information on species distribution\, abundance trends\, migration timing\, and breeding success. \nJoin us at North Mountain Park for a morning full of bird activities from painting feathers to a bird calling contest.
URL:https://klamathbird.org/event/rogue-valley-bird-day/
LOCATION:North Mountain Park\, 620 N Mountain Ave\, Ashland\, OR\, 97520\, United States
CATEGORIES:Other
ATTACH;FMTTYPE=image/jpeg:https://klamathbird.org/wp-content/uploads/2026/03/2026_WMBD-Logo.jpg
END:VEVENT
BEGIN:VEVENT
DTSTART;VALUE=DATE:20260903
DTEND;VALUE=DATE:20260913
DTSTAMP:20260420T020610
CREATED:20251003T181818Z
LAST-MODIFIED:20251003T181818Z
UID:21757-1788393600-1789257599@klamathbird.org
SUMMARY:Brazil – Atlantic Forest Adventure
DESCRIPTION:Join Klamath Bird Observatory and Mantiqueira Bird Observatory for a 10-day adventure in Brazil’s Atlantic Forest\, September 3–12\, 2026. This immersive trip blends birdwatching\, hiking\, and cultural exploration while supporting international bird conservation. Proceeds help fund a biologist exchange program between observatories. Limited to 12 participants\, with lodging\, meals\, and in-country transport included. \nCheck out the KBO Travel page to learn more.
URL:https://klamathbird.org/event/brazil-atlantic-forest-adventure/
LOCATION:OR
CATEGORIES:Field Trip
ATTACH;FMTTYPE=image/jpeg:https://klamathbird.org/wp-content/uploads/2025/10/FFT-Parque-Nacional-Itatiaia-OAMa2025-4.jpg
END:VEVENT
END:VCALENDAR